BEGIN:VCALENDAR
VERSION:2.0
PRODID:http://www.zoiglapp.de/
METHOD:PUBLISH
BEGIN:VEVENT
UID:event_id_@zoiglapp.de
ORGANIZER;CN="ZoiglApp.de Team":MAILTO:kontakt@zoiglapp.de
SUMMARY:Zum Glöckerlbauer Powered by ZoiglApp.de
DESCRIPTION;ENCODING=QUOTED-PRINTABLE;CHARSET=UTF-8:Wie gewünscht benachrichtigen wir dich, dass Zum Glöckerlbauer aktuell geöffnet hat!
CLASS:PUBLIC
DTSTART:20260421T180000
DTEND:20260422T000000
LOCATION:Schustermooslohe 31a, 92637 Weiden i. d. Oberpfalz
GEO:49.6941;12.1284
URL:http://zoiglapp.de/zeigestube.php?id=
CATEGORIES:Veranstaltung
TRANSP:opac
END:VEVENT
BEGIN:VEVENT
UID:event_id_629@zoiglapp.de
ORGANIZER;CN="ZoiglApp.de Team":MAILTO:kontakt@zoiglapp.de
SUMMARY:Zum Glöckerlbauer Powered by ZoiglApp.de
DESCRIPTION;ENCODING=QUOTED-PRINTABLE;CHARSET=UTF-8:Wie gewünscht benachrichtigen wir dich, dass Zum Glöckerlbauer aktuell geöffnet hat!
CLASS:PUBLIC
DTSTART:20130412T180000
DTEND:20130415T000000
LOCATION:Schustermooslohe 31a, 92637 Weiden i. d. Oberpfalz
GEO:49.6941;12.1284
URL:http://zoiglapp.de/zeigestube.php?id=629
CATEGORIES:Veranstaltung
TRANSP:opac
END:VEVENT
END:VCALENDAR