BEGIN:VCALENDAR
VERSION:2.0
PRODID:http://www.zoiglapp.de/
METHOD:PUBLISH
BEGIN:VEVENT
UID:event_id_@zoiglapp.de
ORGANIZER;CN="ZoiglApp.de Team":MAILTO:kontakt@zoiglapp.de
SUMMARY:Schreiner Schorsch Powered by ZoiglApp.de
DESCRIPTION;ENCODING=QUOTED-PRINTABLE;CHARSET=UTF-8:Wie gewünscht benachrichtigen wir dich, dass Schreiner Schorsch aktuell geöffnet hat!
CLASS:PUBLIC
DTSTART:20260419T180000
DTEND:20260420T000000
LOCATION:Pfaffenreuth 13, 92690 Pressath
GEO:49.7542;12.0086
URL:http://zoiglapp.de/zeigestube.php?id=
CATEGORIES:Veranstaltung
TRANSP:opac
END:VEVENT
BEGIN:VEVENT
UID:event_id_3253@zoiglapp.de
ORGANIZER;CN="ZoiglApp.de Team":MAILTO:kontakt@zoiglapp.de
SUMMARY:Schreiner Schorsch Powered by ZoiglApp.de
DESCRIPTION;ENCODING=QUOTED-PRINTABLE;CHARSET=UTF-8:Wie gewünscht benachrichtigen wir dich, dass Schreiner Schorsch aktuell geöffnet hat!
CLASS:PUBLIC
DTSTART:20180302T180000
DTEND:20180306T000000
LOCATION:Pfaffenreuth 13, 92690 Pressath
GEO:49.7542;12.0086
URL:http://zoiglapp.de/zeigestube.php?id=3253
CATEGORIES:Veranstaltung
TRANSP:opac
END:VEVENT
END:VCALENDAR