BEGIN:VCALENDAR
VERSION:2.0
PRODID:http://www.zoiglapp.de/
METHOD:PUBLISH
BEGIN:VEVENT
UID:event_id_@zoiglapp.de
ORGANIZER;CN="ZoiglApp.de Team":MAILTO:kontakt@zoiglapp.de
SUMMARY:GrenZ-Zoigl Ranna Powered by ZoiglApp.de
DESCRIPTION;ENCODING=QUOTED-PRINTABLE;CHARSET=UTF-8:Wie gewünscht benachrichtigen wir dich, dass GrenZ-Zoigl Ranna aktuell geöffnet hat!
CLASS:PUBLIC
DTSTART:20260420T180000
DTEND:20260421T000000
LOCATION:Karl-Winter-Straße 1, 91275 Auerbach
GEO:49.6518;11.5698
URL:http://zoiglapp.de/zeigestube.php?id=
CATEGORIES:Veranstaltung
TRANSP:opac
END:VEVENT
BEGIN:VEVENT
UID:event_id_2799@zoiglapp.de
ORGANIZER;CN="ZoiglApp.de Team":MAILTO:kontakt@zoiglapp.de
SUMMARY:GrenZ-Zoigl Ranna Powered by ZoiglApp.de
DESCRIPTION;ENCODING=QUOTED-PRINTABLE;CHARSET=UTF-8:Wie gewünscht benachrichtigen wir dich, dass GrenZ-Zoigl Ranna aktuell geöffnet hat!
CLASS:PUBLIC
DTSTART:20170608T180000
DTEND:20170612T000000
LOCATION:Karl-Winter-Straße 1, 91275 Auerbach
GEO:49.6518;11.5698
URL:http://zoiglapp.de/zeigestube.php?id=2799
CATEGORIES:Veranstaltung
TRANSP:opac
END:VEVENT
END:VCALENDAR