BEGIN:VCALENDAR
VERSION:2.0
PRODID:http://www.zoiglapp.de/
METHOD:PUBLISH
BEGIN:VEVENT
UID:event_id_692@zoiglapp.de
ORGANIZER;CN="ZoiglApp.de Team":MAILTO:kontakt@zoiglapp.de
SUMMARY:Roter Ochse Powered by ZoiglApp.de
DESCRIPTION;ENCODING=QUOTED-PRINTABLE;CHARSET=UTF-8:Wie gewünscht benachrichtigen wir dich, dass Roter Ochse aktuell geöffnet hat!
CLASS:PUBLIC
DTSTART:20120203T180000
DTEND:20420204T000000
LOCATION:Schönfichter Straße 7, 95685 Falkenberg
GEO:49.8577;12.2247
URL:http://zoiglapp.de/zeigestube.php?id=692
CATEGORIES:Veranstaltung
TRANSP:opac
END:VEVENT
BEGIN:VEVENT
UID:event_id_@zoiglapp.de
ORGANIZER;CN="ZoiglApp.de Team":MAILTO:kontakt@zoiglapp.de
SUMMARY:Roter Ochse Powered by ZoiglApp.de
DESCRIPTION;ENCODING=QUOTED-PRINTABLE;CHARSET=UTF-8:Wie gewünscht benachrichtigen wir dich, dass Roter Ochse aktuell geöffnet hat!
CLASS:PUBLIC
DTSTART:20260421T180000
DTEND:20260422T000000
LOCATION:Schönfichter Straße 7, 95685 Falkenberg
GEO:49.8577;12.2247
URL:http://zoiglapp.de/zeigestube.php?id=
CATEGORIES:Veranstaltung
TRANSP:opac
END:VEVENT
END:VCALENDAR