BEGIN:VCALENDAR
VERSION:2.0
PRODID:http://www.zoiglapp.de/
METHOD:PUBLISH
BEGIN:VEVENT
UID:event_id_@zoiglapp.de
ORGANIZER;CN="ZoiglApp.de Team":MAILTO:kontakt@zoiglapp.de
SUMMARY:Am Moierhof Powered by ZoiglApp.de
DESCRIPTION;ENCODING=QUOTED-PRINTABLE;CHARSET=UTF-8:Wie gewünscht benachrichtigen wir dich, dass Am Moierhof aktuell geöffnet hat!
CLASS:PUBLIC
DTSTART:20260419T180000
DTEND:20260420T000000
LOCATION:Altenparkstein 7, 92665 Kirchendemenreuth
GEO:0;0
URL:http://zoiglapp.de/zeigestube.php?id=
CATEGORIES:Veranstaltung
TRANSP:opac
END:VEVENT
BEGIN:VEVENT
UID:event_id_1024@zoiglapp.de
ORGANIZER;CN="ZoiglApp.de Team":MAILTO:kontakt@zoiglapp.de
SUMMARY:Am Moierhof Powered by ZoiglApp.de
DESCRIPTION;ENCODING=QUOTED-PRINTABLE;CHARSET=UTF-8:Wie gewünscht benachrichtigen wir dich, dass Am Moierhof aktuell geöffnet hat!
CLASS:PUBLIC
DTSTART:20140124T180000
DTEND:20140128T000000
LOCATION:Altenparkstein 7, 92665 Kirchendemenreuth
GEO:0;0
URL:http://zoiglapp.de/zeigestube.php?id=1024
CATEGORIES:Veranstaltung
TRANSP:opac
END:VEVENT
END:VCALENDAR