BEGIN:VCALENDAR
VERSION:2.0
PRODID:http://www.zoiglapp.de/
METHOD:PUBLISH
BEGIN:VEVENT
UID:event_id_@zoiglapp.de
ORGANIZER;CN="ZoiglApp.de Team":MAILTO:kontakt@zoiglapp.de
SUMMARY:Alter Pfarrhof Powered by ZoiglApp.de
DESCRIPTION;ENCODING=QUOTED-PRINTABLE;CHARSET=UTF-8:Wie gewünscht benachrichtigen wir dich, dass Alter Pfarrhof aktuell geöffnet hat!
CLASS:PUBLIC
DTSTART:20260423T180000
DTEND:20260424T000000
LOCATION:Pfarrplatz 14, 92665 Altenstadt a. d. Waldnaab
GEO:49.7214;12.1606
URL:http://zoiglapp.de/zeigestube.php?id=
CATEGORIES:Veranstaltung
TRANSP:opac
END:VEVENT
BEGIN:VEVENT
UID:event_id_479@zoiglapp.de
ORGANIZER;CN="ZoiglApp.de Team":MAILTO:kontakt@zoiglapp.de
SUMMARY:Alter Pfarrhof Powered by ZoiglApp.de
DESCRIPTION;ENCODING=QUOTED-PRINTABLE;CHARSET=UTF-8:Wie gewünscht benachrichtigen wir dich, dass Alter Pfarrhof aktuell geöffnet hat!
CLASS:PUBLIC
DTSTART:20130405T180000
DTEND:20130410T000000
LOCATION:Pfarrplatz 14, 92665 Altenstadt a. d. Waldnaab
GEO:49.7214;12.1606
URL:http://zoiglapp.de/zeigestube.php?id=479
CATEGORIES:Veranstaltung
TRANSP:opac
END:VEVENT
END:VCALENDAR