BEGIN:VCALENDAR
VERSION:2.0
PRODID:http://www.zoiglapp.de/
METHOD:PUBLISH
BEGIN:VEVENT
UID:event_id_@zoiglapp.de
ORGANIZER;CN="ZoiglApp.de Team":MAILTO:kontakt@zoiglapp.de
SUMMARY:Wolfadl Powered by ZoiglApp.de
DESCRIPTION;ENCODING=QUOTED-PRINTABLE;CHARSET=UTF-8:Wie gewünscht benachrichtigen wir dich, dass Wolfadl aktuell geöffnet hat!
CLASS:PUBLIC
DTSTART:20260420T180000
DTEND:20260421T000000
LOCATION:Gumpener Weg 1, 95685 Falkenberg
GEO:49.8596;12.2285
URL:http://zoiglapp.de/zeigestube.php?id=
CATEGORIES:Veranstaltung
TRANSP:opac
END:VEVENT
BEGIN:VEVENT
UID:event_id_430@zoiglapp.de
ORGANIZER;CN="ZoiglApp.de Team":MAILTO:kontakt@zoiglapp.de
SUMMARY:Wolfadl Powered by ZoiglApp.de
DESCRIPTION;ENCODING=QUOTED-PRINTABLE;CHARSET=UTF-8:Wie gewünscht benachrichtigen wir dich, dass Wolfadl aktuell geöffnet hat!
CLASS:PUBLIC
DTSTART:20130322T180000
DTEND:20130326T000000
LOCATION:Gumpener Weg 1, 95685 Falkenberg
GEO:49.8596;12.2285
URL:http://zoiglapp.de/zeigestube.php?id=430
CATEGORIES:Veranstaltung
TRANSP:opac
END:VEVENT
END:VCALENDAR