BEGIN:VCALENDAR
VERSION:2.0
PRODID:http://www.zoiglapp.de/
METHOD:PUBLISH
BEGIN:VEVENT
UID:event_id_@zoiglapp.de
ORGANIZER;CN="ZoiglApp.de Team":MAILTO:kontakt@zoiglapp.de
SUMMARY:Lingl-Zoigl Powered by ZoiglApp.de
DESCRIPTION;ENCODING=QUOTED-PRINTABLE;CHARSET=UTF-8:Wie gewünscht benachrichtigen wir dich, dass Lingl-Zoigl aktuell geöffnet hat!
CLASS:PUBLIC
DTSTART:20260419T180000
DTEND:20260420T000000
LOCATION:Burgstraße 1, 92670 Neuhaus (Windischeschenbach)
GEO:49.8001;12.1653
URL:http://zoiglapp.de/zeigestube.php?id=
CATEGORIES:Veranstaltung
TRANSP:opac
END:VEVENT
BEGIN:VEVENT
UID:event_id_267@zoiglapp.de
ORGANIZER;CN="ZoiglApp.de Team":MAILTO:kontakt@zoiglapp.de
SUMMARY:Lingl-Zoigl Powered by ZoiglApp.de
DESCRIPTION;ENCODING=QUOTED-PRINTABLE;CHARSET=UTF-8:Wie gewünscht benachrichtigen wir dich, dass Lingl-Zoigl aktuell geöffnet hat!
CLASS:PUBLIC
DTSTART:20130322T180000
DTEND:20130326T000000
LOCATION:Burgstraße 1, 92670 Neuhaus (Windischeschenbach)
GEO:49.8001;12.1653
URL:http://zoiglapp.de/zeigestube.php?id=267
CATEGORIES:Veranstaltung
TRANSP:opac
END:VEVENT
END:VCALENDAR